BEGIN:VCALENDAR
VERSION:2.0
PRODID:-//Elsevier Education - ECPv6.15.18//NONSGML v1.0//EN
CALSCALE:GREGORIAN
METHOD:PUBLISH
X-ORIGINAL-URL:https://evolve.elsevier.com/education
X-WR-CALDESC:Events for Elsevier Education
REFRESH-INTERVAL;VALUE=DURATION:PT1H
X-Robots-Tag:noindex
X-PUBLISHED-TTL:PT1H
BEGIN:VTIMEZONE
TZID:America/New_York
BEGIN:DAYLIGHT
TZOFFSETFROM:-0500
TZOFFSETTO:-0400
TZNAME:EDT
DTSTART:20220313T070000
END:DAYLIGHT
BEGIN:STANDARD
TZOFFSETFROM:-0400
TZOFFSETTO:-0500
TZNAME:EST
DTSTART:20221106T060000
END:STANDARD
BEGIN:DAYLIGHT
TZOFFSETFROM:-0500
TZOFFSETTO:-0400
TZNAME:EDT
DTSTART:20230312T070000
END:DAYLIGHT
BEGIN:STANDARD
TZOFFSETFROM:-0400
TZOFFSETTO:-0500
TZNAME:EST
DTSTART:20231105T060000
END:STANDARD
BEGIN:DAYLIGHT
TZOFFSETFROM:-0500
TZOFFSETTO:-0400
TZNAME:EDT
DTSTART:20240310T070000
END:DAYLIGHT
BEGIN:STANDARD
TZOFFSETFROM:-0400
TZOFFSETTO:-0500
TZNAME:EST
DTSTART:20241103T060000
END:STANDARD
BEGIN:DAYLIGHT
TZOFFSETFROM:-0500
TZOFFSETTO:-0400
TZNAME:EDT
DTSTART:20250309T070000
END:DAYLIGHT
BEGIN:STANDARD
TZOFFSETFROM:-0400
TZOFFSETTO:-0500
TZNAME:EST
DTSTART:20251102T060000
END:STANDARD
END:VTIMEZONE
BEGIN:VTIMEZONE
TZID:America/Chicago
BEGIN:DAYLIGHT
TZOFFSETFROM:-0600
TZOFFSETTO:-0500
TZNAME:CDT
DTSTART:20220313T080000
END:DAYLIGHT
BEGIN:STANDARD
TZOFFSETFROM:-0500
TZOFFSETTO:-0600
TZNAME:CST
DTSTART:20221106T070000
END:STANDARD
BEGIN:DAYLIGHT
TZOFFSETFROM:-0600
TZOFFSETTO:-0500
TZNAME:CDT
DTSTART:20230312T080000
END:DAYLIGHT
BEGIN:STANDARD
TZOFFSETFROM:-0500
TZOFFSETTO:-0600
TZNAME:CST
DTSTART:20231105T070000
END:STANDARD
BEGIN:DAYLIGHT
TZOFFSETFROM:-0600
TZOFFSETTO:-0500
TZNAME:CDT
DTSTART:20240310T080000
END:DAYLIGHT
BEGIN:STANDARD
TZOFFSETFROM:-0500
TZOFFSETTO:-0600
TZNAME:CST
DTSTART:20241103T070000
END:STANDARD
END:VTIMEZONE
BEGIN:VEVENT
DTSTART;TZID=America/New_York:20230905T130000
DTEND;TZID=America/New_York:20230905T143000
DTSTAMP:20260424T112510
CREATED:20230709T185050Z
LAST-MODIFIED:20230811T205735Z
UID:39076-1693918800-1693924200@evolve.elsevier.com
SUMMARY:EAB -- Sherpath Assessments/Assignments Overview - Group Training Webinar-Sept 5\, 2023
DESCRIPTION:Please join this EAB Group Training Webinar to learn how to use Elsevier’s Assessment Builder to prepare your learners for the NGN today: \n\nYou can learn more and register at this link: https://survey.alchemer.com/s3/7355090/Group-Training-Webinar-Sign-Up
URL:https://evolve.elsevier.com/education/event/eab-group-training-webinar-sept-5-2023/
CATEGORIES:EAB
END:VEVENT
BEGIN:VEVENT
DTSTART;TZID=America/New_York:20230906T110000
DTEND;TZID=America/New_York:20230906T123000
DTSTAMP:20260424T112510
CREATED:20230709T170340Z
LAST-MODIFIED:20230709T170349Z
UID:39017-1693998000-1694003400@evolve.elsevier.com
SUMMARY:Sherpath Vantage Group Training Webinar-Sept 6\, 2023
DESCRIPTION:Please join this Sherpath Vantage Group Training Webinar to learn more about the exciting resources and features in Vantage. \nYou can learn more and register at this link: https://survey.alchemer.com/s3/7355090/Group-Training-Webinar-Sign-Up
URL:https://evolve.elsevier.com/education/event/sherpath-vantage-group-training-webinar-sept-6-2023/
END:VEVENT
BEGIN:VEVENT
DTSTART;TZID=America/New_York:20230906T140000
DTEND;TZID=America/New_York:20230906T153000
DTSTAMP:20260424T112510
CREATED:20230709T182636Z
LAST-MODIFIED:20230709T182636Z
UID:39064-1694008800-1694014200@evolve.elsevier.com
SUMMARY:Shadow Health Group Training Webinar-Sept 6\, 2023
DESCRIPTION:Please join this Shadow Health Group Training Webinar to prepare for your semester today: \n\nYou can learn more and register at this link: https://survey.alchemer.com/s3/7355090/Group-Training-Webinar-Sign-Up
URL:https://evolve.elsevier.com/education/event/shadow-health-group-training-webinar-sept-6-2023/
CATEGORIES:Shadow Health
END:VEVENT
BEGIN:VEVENT
DTSTART;TZID=America/New_York:20230908T090000
DTEND;TZID=America/New_York:20230908T103000
DTSTAMP:20260424T112510
CREATED:20230709T180847Z
LAST-MODIFIED:20230709T180847Z
UID:39048-1694163600-1694169000@evolve.elsevier.com
SUMMARY:HESI Group Training Webinar-Sept 8\, 2023
DESCRIPTION:Please join this HESI Group Training Webinar to prepare for your semester today: \n\nYou can learn more and register at this link: https://survey.alchemer.com/s3/7355090/Group-Training-Webinar-Sign-Up
URL:https://evolve.elsevier.com/education/event/hesi-group-training-webinar-sept-8-2023/
CATEGORIES:HESI
END:VEVENT
BEGIN:VEVENT
DTSTART;TZID=America/Chicago:20230911T150000
DTEND;TZID=America/Chicago:20230911T163000
DTSTAMP:20260424T112510
CREATED:20230709T190348Z
LAST-MODIFIED:20230709T190348Z
UID:39089-1694444400-1694449800@evolve.elsevier.com
SUMMARY:Upgraded Sherpath Group Training Webinar-Sept. 11\, 2023
DESCRIPTION:Please join this Upgraded Sherpath Group Training Webinar to learn all about the resources and features in Sherpath. \n\nYou can learn more and register at this link: https://survey.alchemer.com/s3/7355090/Group-Training-Webinar-Sign-Up
URL:https://evolve.elsevier.com/education/event/upgraded-sherpath-group-training-webinar-sept-11-2023/
CATEGORIES:Upgraded Sherpath
END:VEVENT
BEGIN:VEVENT
DTSTART;TZID=America/New_York:20230913T133000
DTEND;TZID=America/New_York:20230913T150000
DTSTAMP:20260424T112510
CREATED:20230831T130716Z
LAST-MODIFIED:20230831T130716Z
UID:39769-1694611800-1694617200@evolve.elsevier.com
SUMMARY:Build Effective Courses with Sherpath® Vantage
DESCRIPTION:As nurse educators\, you’re working hard to prepare your students for practice\, foster clinical judgment\, educate students their way\, and deliver a highly effective\, consistent course experience.  Join us to learn more about Sherpath Vantage\, the all-in-one course solution that delivers an engaging course experience in one platform. \nJoin Elsevier’s nursing experts to dive into Sherpath Vantage and discover how it can help your students master key concepts\, strengthen their nursing competency\, and build clinical judgment skills.  They’ll walk you through a week with Sherpath Vantage and highlight its capabilities\, its content\, and its outcomes.
URL:https://evolve.elsevier.com/education/event/build-effective-courses-with-sherpath-vantage/
CATEGORIES:Sherpath Vantage
END:VEVENT
BEGIN:VEVENT
DTSTART;TZID=America/New_York:20230913T140000
DTEND;TZID=America/New_York:20230913T153000
DTSTAMP:20260424T112510
CREATED:20230709T170709Z
LAST-MODIFIED:20230709T172504Z
UID:39019-1694613600-1694619000@evolve.elsevier.com
SUMMARY:Sherpath Vantage Group Training Webinar-Sept 13\, 2023
DESCRIPTION:Please join this Sherpath Vantage Group Training Webinar to learn more about the exciting resources and features in Vantage. \nYou can learn more and register at this link: https://survey.alchemer.com/s3/7355090/Group-Training-Webinar-Sign-Up
URL:https://evolve.elsevier.com/education/event/sherpath-vantage-group-training-webinar-sept-13-2023/
END:VEVENT
BEGIN:VEVENT
DTSTART;TZID=America/New_York:20230914T110000
DTEND;TZID=America/New_York:20230914T123000
DTSTAMP:20260424T112510
CREATED:20230709T182758Z
LAST-MODIFIED:20230709T182758Z
UID:39066-1694689200-1694694600@evolve.elsevier.com
SUMMARY:Shadow Health Group Training Webinar-Sept 14\, 2023
DESCRIPTION:Please join this Shadow Health Group Training Webinar to prepare for your semester today: \n\nYou can learn more and register at this link: https://survey.alchemer.com/s3/7355090/Group-Training-Webinar-Sign-Up
URL:https://evolve.elsevier.com/education/event/shadow-health-group-training-webinar-sept-14-2023/
CATEGORIES:Shadow Health
END:VEVENT
BEGIN:VEVENT
DTSTART;TZID=America/New_York:20230915T130000
DTEND;TZID=America/New_York:20230915T143000
DTSTAMP:20260424T112510
CREATED:20230709T181041Z
LAST-MODIFIED:20230709T181041Z
UID:39050-1694782800-1694788200@evolve.elsevier.com
SUMMARY:HESI Group Training Webinar-Sept 15\, 2023
DESCRIPTION:Please join this HESI Group Training Webinar to prepare for your semester today: \n\nYou can learn more and register at this link: https://survey.alchemer.com/s3/7355090/Group-Training-Webinar-Sign-Up
URL:https://evolve.elsevier.com/education/event/hesi-group-training-webinar-sept-15-2023/
CATEGORIES:HESI
END:VEVENT
BEGIN:VEVENT
DTSTART;TZID=America/New_York:20231005T150000
DTEND;TZID=America/New_York:20231005T163000
DTSTAMP:20260424T112510
CREATED:20230831T130956Z
LAST-MODIFIED:20230831T130956Z
UID:39771-1696518000-1696523400@evolve.elsevier.com
SUMMARY:Build Effective Courses with Sherpath® Vantage
DESCRIPTION:As nurse educators\, you’re working hard to prepare your students for practice\, foster clinical judgment\, educate students their way\, and deliver a highly effective\, consistent course experience.  Join us to learn more about Sherpath Vantage\, the all-in-one course solution that delivers an engaging course experience in one platform. \nJoin Elsevier’s nursing experts to dive into Sherpath Vantage and discover how it can help your students master key concepts\, strengthen their nursing competency\, and build clinical judgment skills.  They’ll walk you through a week with Sherpath Vantage and highlight its capabilities\, its content\, and its outcomes.
URL:https://evolve.elsevier.com/education/event/build-effective-courses-with-sherpath-vantage-2/
CATEGORIES:Sherpath Vantage
END:VEVENT
BEGIN:VEVENT
DTSTART;TZID=America/New_York:20231009T130000
DTEND;TZID=America/New_York:20231009T143000
DTSTAMP:20260424T112510
CREATED:20230902T161800Z
LAST-MODIFIED:20230902T161800Z
UID:39852-1696856400-1696861800@evolve.elsevier.com
SUMMARY:HESI Group Training Webinar-Oct. 9\, 2023
DESCRIPTION:Please join this HESI Group Training Webinar to prepare for your semester today: \n\nYou can learn more and register at this link: https://survey.alchemer.com/s3/7355090/Group-Training-Webinar-Sign-Up
URL:https://evolve.elsevier.com/education/event/hesi-group-training-webinar-oct-9-2023/
CATEGORIES:HESI
END:VEVENT
BEGIN:VEVENT
DTSTART;TZID=America/New_York:20231010T150000
DTEND;TZID=America/New_York:20231010T163000
DTSTAMP:20260424T112510
CREATED:20230902T120659Z
LAST-MODIFIED:20230902T121026Z
UID:39840-1696950000-1696955400@evolve.elsevier.com
SUMMARY:Upgraded Sherpath Group Training Webinar-Oct. 10\, 2023
DESCRIPTION:Please join this Upgraded Sherpath Group Training Webinar to learn all about the resources and features in Sherpath. \n\nYou can learn more and register at this link: https://survey.alchemer.com/s3/7355090/Group-Training-Webinar-Sign-Up
URL:https://evolve.elsevier.com/education/event/upgraded-sherpath-group-training-webinar-oct-10-2023/
CATEGORIES:Upgraded Sherpath
END:VEVENT
BEGIN:VEVENT
DTSTART;TZID=America/New_York:20231011T110000
DTEND;TZID=America/New_York:20231011T123000
DTSTAMP:20260424T112510
CREATED:20230902T115353Z
LAST-MODIFIED:20230902T115353Z
UID:39828-1697022000-1697027400@evolve.elsevier.com
SUMMARY:Shadow Health Group Training Webinar-Oct. 11\, 2023
DESCRIPTION:Please join this Shadow Health Group Training Webinar to prepare for your semester today: \n\nYou can learn more and register at this link: https://survey.alchemer.com/s3/7355090/Group-Training-Webinar-Sign-Up
URL:https://evolve.elsevier.com/education/event/shadow-health-group-training-webinar-oct-11-2023/
CATEGORIES:Shadow Health
END:VEVENT
BEGIN:VEVENT
DTSTART;TZID=America/New_York:20231011T150000
DTEND;TZID=America/New_York:20231011T160000
DTSTAMP:20260424T112510
CREATED:20230912T195502Z
LAST-MODIFIED:20230912T195502Z
UID:39984-1697036400-1697040000@evolve.elsevier.com
SUMMARY:Shadow Health for Graduate Nursing Live Webinar
DESCRIPTION:As nurse educators\, you’re working hard to prepare your students to excel in a complex and challenging healthcare environment. We invite you to learn about ways to improve your students’ communication skills\, develop diagnostic reasoning\, and improve their efficiency with high-fidelity screen-based simulations. \nJoin Elsevier’s nursing experts Dr. Cheryl Wilson and Dr. Amanda Davis to learn more about how Shadow Health’s high-fidelity screen-based simulations put the patient at the forefront of the learning experience. You will meet several of our virtual patients and learn how our patented conversation engine builds therapeutic communication and diagnostic reasoning skills.
URL:https://evolve.elsevier.com/education/event/shadow-health-for-graduate-nursing-live-webinar/
CATEGORIES:Shadow Health
END:VEVENT
BEGIN:VEVENT
DTSTART;TZID=America/New_York:20231012T120000
DTEND;TZID=America/New_York:20231012T130000
DTSTAMP:20260424T112510
CREATED:20230912T195625Z
LAST-MODIFIED:20230912T195625Z
UID:39986-1697112000-1697115600@evolve.elsevier.com
SUMMARY:Shadow Health for Undergraduate Nursing Live Webinar
DESCRIPTION:As nurse educators\, you’re working hard to prepare your students to excel in a complex and challenging healthcare environment. We invite you to learn about ways to improve your students’ communication skills\, develop clinical judgment\, and improve their efficiency with high-fidelity screen-based simulations. \nJoin Elsevier’s nursing experts Dr. Cheryl Wilson and Dr. Brittny Chabalowski to learn more about how you can put the patient at the forefront of the learning experience with Shadow Health’s high-fidelity screen-based simulations. You will meet several of our virtual patients and learn how our patented conversation engine builds therapeutic communication and clinical judgment skills.
URL:https://evolve.elsevier.com/education/event/shadow-health-for-undergraduate-nursing-live-webinar/
CATEGORIES:Shadow Health
END:VEVENT
BEGIN:VEVENT
DTSTART;TZID=America/New_York:20231012T150000
DTEND;TZID=America/New_York:20231012T163000
DTSTAMP:20260424T112510
CREATED:20230902T121839Z
LAST-MODIFIED:20230902T121839Z
UID:39846-1697122800-1697128200@evolve.elsevier.com
SUMMARY:Sherpath Vantage Group Training Webinar-Oct. 12\, 2023
DESCRIPTION:Please join this Sherpath Vantage Group Training Webinar to learn more about the exciting resources and features in Vantage. \nYou can learn more and register at this link: https://survey.alchemer.com/s3/7355090/Group-Training-Webinar-Sign-Up
URL:https://evolve.elsevier.com/education/event/sherpath-vantage-group-training-webinar-oct-12-2023/
CATEGORIES:Sherpath Vantage
END:VEVENT
BEGIN:VEVENT
DTSTART;TZID=America/New_York:20231013T130000
DTEND;TZID=America/New_York:20231013T143000
DTSTAMP:20260424T112510
CREATED:20230902T120059Z
LAST-MODIFIED:20230902T120059Z
UID:39834-1697202000-1697207400@evolve.elsevier.com
SUMMARY:EAB — Sherpath Assessments/Assignments Overview – Group Training Webinar-Oct. 13\, 2023
DESCRIPTION:Please join this EAB Group Training Webinar to learn how to use Elsevier’s Assessment Builder to prepare your learners for the NGN today: \n\nYou can learn more and register at this link: https://survey.alchemer.com/s3/7355090/Group-Training-Webinar-Sign-Up
URL:https://evolve.elsevier.com/education/event/eab-sherpath-assessments-assignments-overview-group-training-webinar-oct-13-2023/
CATEGORIES:EAB
END:VEVENT
BEGIN:VEVENT
DTSTART;TZID=America/Chicago:20231113T090000
DTEND;TZID=America/Chicago:20231113T103000
DTSTAMP:20260424T112510
CREATED:20230902T161917Z
LAST-MODIFIED:20230902T161917Z
UID:39854-1699866000-1699871400@evolve.elsevier.com
SUMMARY:HESI Group Training Webinar-Nov. 13\, 2023
DESCRIPTION:Please join this HESI Group Training Webinar to prepare for your semester today: \n\nYou can learn more and register at this link: https://survey.alchemer.com/s3/7355090/Group-Training-Webinar-Sign-Up
URL:https://evolve.elsevier.com/education/event/hesi-group-training-webinar-nov-13-2023/
CATEGORIES:HESI
END:VEVENT
BEGIN:VEVENT
DTSTART;TZID=America/New_York:20231114T090000
DTEND;TZID=America/New_York:20231114T103000
DTSTAMP:20260424T112510
CREATED:20230902T120940Z
LAST-MODIFIED:20230902T120940Z
UID:39842-1699952400-1699957800@evolve.elsevier.com
SUMMARY:Upgraded Sherpath Group Training Webinar-Nov. 14\, 2023
DESCRIPTION:Please join this Upgraded Sherpath Group Training Webinar to learn all about the resources and features in Sherpath. \n\nYou can learn more and register at this link: https://survey.alchemer.com/s3/7355090/Group-Training-Webinar-Sign-Up
URL:https://evolve.elsevier.com/education/event/upgraded-sherpath-group-training-webinar-nov-14-2023/
CATEGORIES:Upgraded Sherpath
END:VEVENT
BEGIN:VEVENT
DTSTART;TZID=America/New_York:20231115T130000
DTEND;TZID=America/New_York:20231115T143000
DTSTAMP:20260424T112510
CREATED:20230902T115612Z
LAST-MODIFIED:20230902T115612Z
UID:39830-1700053200-1700058600@evolve.elsevier.com
SUMMARY:Shadow Health Group Training Webinar-Nov. 15\, 2023
DESCRIPTION:Please join this Shadow Health Group Training Webinar to prepare for your semester today: \n\nYou can learn more and register at this link: https://survey.alchemer.com/s3/7355090/Group-Training-Webinar-Sign-Up
URL:https://evolve.elsevier.com/education/event/shadow-health-group-training-webinar-nov-15-2023/
CATEGORIES:Shadow Health
END:VEVENT
BEGIN:VEVENT
DTSTART;TZID=America/New_York:20231116T130000
DTEND;TZID=America/New_York:20231116T143000
DTSTAMP:20260424T112510
CREATED:20230902T130823Z
LAST-MODIFIED:20230902T130823Z
UID:39848-1700139600-1700145000@evolve.elsevier.com
SUMMARY:Sherpath Vantage Group Training Webinar-Nov. 16\, 2023
DESCRIPTION:Please join this Sherpath Vantage Group Training Webinar to learn more about the exciting resources and features in Vantage. \nYou can learn more and register at this link: https://survey.alchemer.com/s3/7355090/Group-Training-Webinar-Sign-Up
URL:https://evolve.elsevier.com/education/event/sherpath-vantage-group-training-webinar-nov-16-2023/
CATEGORIES:Sherpath Vantage
END:VEVENT
BEGIN:VEVENT
DTSTART;TZID=America/New_York:20231117T130000
DTEND;TZID=America/New_York:20231117T143000
DTSTAMP:20260424T112510
CREATED:20230902T120228Z
LAST-MODIFIED:20230902T120228Z
UID:39836-1700226000-1700231400@evolve.elsevier.com
SUMMARY:EAB — Sherpath Assessments/Assignments Overview – Group Training Webinar-Nov. 17\, 2023
DESCRIPTION:Please join this EAB Group Training Webinar to learn how to use Elsevier’s Assessment Builder to prepare your learners for the NGN today: \n\nYou can learn more and register at this link: https://survey.alchemer.com/s3/7355090/Group-Training-Webinar-Sign-Up
URL:https://evolve.elsevier.com/education/event/eab-sherpath-assessments-assignments-overview-group-training-webinar-nov-17-2023/
CATEGORIES:EAB
END:VEVENT
BEGIN:VEVENT
DTSTART;TZID=America/Chicago:20231211T110000
DTEND;TZID=America/Chicago:20231211T123000
DTSTAMP:20260424T112510
CREATED:20230902T162045Z
LAST-MODIFIED:20230902T162045Z
UID:39856-1702292400-1702297800@evolve.elsevier.com
SUMMARY:HESI Group Training Webinar-Dec. 11\, 2023
DESCRIPTION:Please join this HESI Group Training Webinar to prepare for your semester today: \n\nYou can learn more and register at this link: https://survey.alchemer.com/s3/7355090/Group-Training-Webinar-Sign-Up
URL:https://evolve.elsevier.com/education/event/hesi-group-training-webinar-dec-11-2023/
CATEGORIES:HESI
END:VEVENT
BEGIN:VEVENT
DTSTART;TZID=America/New_York:20231212T090000
DTEND;TZID=America/New_York:20231212T103000
DTSTAMP:20260424T112510
CREATED:20230902T120451Z
LAST-MODIFIED:20230902T120451Z
UID:39838-1702371600-1702377000@evolve.elsevier.com
SUMMARY:EAB — Sherpath Assessments/Assignments Overview – Group Training Webinar-Dec. 12\, 2023
DESCRIPTION:Please join this EAB Group Training Webinar to learn how to use Elsevier’s Assessment Builder to prepare your learners for the NGN today: \n\nYou can learn more and register at this link: https://survey.alchemer.com/s3/7355090/Group-Training-Webinar-Sign-Up
URL:https://evolve.elsevier.com/education/event/eab-sherpath-assessments-assignments-overview-group-training-webinar-dec-12-2023/
CATEGORIES:EAB
END:VEVENT
BEGIN:VEVENT
DTSTART;TZID=America/New_York:20231213T110000
DTEND;TZID=America/New_York:20231213T123000
DTSTAMP:20260424T112510
CREATED:20231213T163635Z
LAST-MODIFIED:20231213T163635Z
UID:41981-1702465200-1702470600@evolve.elsevier.com
SUMMARY:Upgraded Sherpath Faculty Group Training Webinar - Jan. 8\, 2024
DESCRIPTION:Join our Upgraded Sherpath Faculty Group Training Webinar to explore the features\, functionality\, and fully integrated platform as you prepare to use Upgraded Sherpath with your learners this term. \nYou can learn more and register for this live session by clicking the following link: https://survey.alchemer.com/s3/7355090/Group-Training-Webinar-Sign-Up
URL:https://evolve.elsevier.com/education/event/upgraded-sherpath-faculty-group-training-webinar-jan-8-2024/
CATEGORIES:Upgraded Sherpath
END:VEVENT
BEGIN:VEVENT
DTSTART;TZID=America/New_York:20231213T150000
DTEND;TZID=America/New_York:20231213T163000
DTSTAMP:20260424T112510
CREATED:20230902T115732Z
LAST-MODIFIED:20230902T115732Z
UID:39832-1702479600-1702485000@evolve.elsevier.com
SUMMARY:Shadow Health Group Training Webinar-Dec. 13\, 2023
DESCRIPTION:Please join this Shadow Health Group Training Webinar to prepare for your semester today: \n\nYou can learn more and register at this link: https://survey.alchemer.com/s3/7355090/Group-Training-Webinar-Sign-Up
URL:https://evolve.elsevier.com/education/event/shadow-health-group-training-webinar-dec-13-2023/
CATEGORIES:Shadow Health
END:VEVENT
BEGIN:VEVENT
DTSTART;TZID=America/New_York:20231214T090000
DTEND;TZID=America/New_York:20231214T103000
DTSTAMP:20260424T112510
CREATED:20230902T130934Z
LAST-MODIFIED:20230902T130934Z
UID:39850-1702544400-1702549800@evolve.elsevier.com
SUMMARY:Sherpath Vantage Group Training Webinar-Dec. 14\, 2023
DESCRIPTION:Please join this Sherpath Vantage Group Training Webinar to learn more about the exciting resources and features in Vantage. \nYou can learn more and register at this link: https://survey.alchemer.com/s3/7355090/Group-Training-Webinar-Sign-Up
URL:https://evolve.elsevier.com/education/event/sherpath-vantage-group-training-webinar-dec-14-2023/
CATEGORIES:Sherpath Vantage
END:VEVENT
BEGIN:VEVENT
DTSTART;TZID=America/New_York:20231215T130000
DTEND;TZID=America/New_York:20231215T143000
DTSTAMP:20260424T112510
CREATED:20230902T121629Z
LAST-MODIFIED:20230902T121629Z
UID:39844-1702645200-1702650600@evolve.elsevier.com
SUMMARY:Upgraded Sherpath Group Training Webinar-Dec. 15\, 2023
DESCRIPTION:Please join this Upgraded Sherpath Group Training Webinar to learn all about the resources and features in Sherpath. \n\nYou can learn more and register at this link: https://survey.alchemer.com/s3/7355090/Group-Training-Webinar-Sign-Up
URL:https://evolve.elsevier.com/education/event/upgraded-sherpath-group-training-webinar-dec-15-2023/
CATEGORIES:Upgraded Sherpath
END:VEVENT
BEGIN:VEVENT
DTSTART;TZID=America/New_York:20240108T130000
DTEND;TZID=America/New_York:20240108T143000
DTSTAMP:20260424T112510
CREATED:20231213T161629Z
LAST-MODIFIED:20231213T161629Z
UID:41969-1704718800-1704724200@evolve.elsevier.com
SUMMARY:Sherpath Vantage Faculty Group Training Webinar - Jan. 8\, 2024
DESCRIPTION:Join our Sherpath Vantage Faculty Group Training Webinar to learn more about its exciting resources\, features\, and functionality as you prepare to use Vantage this term. \nYou can learn more and register for this live session by clicking the following link: https://survey.alchemer.com/s3/7355090/Group-Training-Webinar-Sign-Up
URL:https://evolve.elsevier.com/education/event/sherpath-vantage-faculty-group-training-webinar-jan-8-2024/
CATEGORIES:Sherpath Vantage
END:VEVENT
BEGIN:VEVENT
DTSTART;TZID=America/New_York:20240109T090000
DTEND;TZID=America/New_York:20240109T103000
DTSTAMP:20260424T112510
CREATED:20231213T150531Z
LAST-MODIFIED:20231213T181415Z
UID:41927-1704790800-1704796200@evolve.elsevier.com
SUMMARY:HESI NG Prep Suite Faculty Group Training Webinar - Jan. 9\, 2024
DESCRIPTION:Join our HESI Next Generation (NG) Prep Suite Faculty Group Training Webinar to prepare for your semester today. \nYou can learn more and register for this live session by clicking the following link: https://survey.alchemer.com/s3/7355090/Group-Training-Webinar-Sign-Up
URL:https://evolve.elsevier.com/education/event/hesi-ng-prep-suite-faculty-group-training-webinar-feb-8-2024/
CATEGORIES:HESI
END:VEVENT
END:VCALENDAR